BEGIN:VCALENDAR
VERSION:2.0
PRODID:-//Nodaway County Health Center - ECPv6.15.20//NONSGML v1.0//EN
CALSCALE:GREGORIAN
METHOD:PUBLISH
X-WR-CALNAME:Nodaway County Health Center
X-ORIGINAL-URL:https://nodawaypublichealth.org
X-WR-CALDESC:Events for Nodaway County Health Center
REFRESH-INTERVAL;VALUE=DURATION:PT1H
X-Robots-Tag:noindex
X-PUBLISHED-TTL:PT1H
BEGIN:VTIMEZONE
TZID:America/Chicago
BEGIN:DAYLIGHT
TZOFFSETFROM:-0600
TZOFFSETTO:-0500
TZNAME:CDT
DTSTART:20240310T080000
END:DAYLIGHT
BEGIN:STANDARD
TZOFFSETFROM:-0500
TZOFFSETTO:-0600
TZNAME:CST
DTSTART:20241103T070000
END:STANDARD
BEGIN:DAYLIGHT
TZOFFSETFROM:-0600
TZOFFSETTO:-0500
TZNAME:CDT
DTSTART:20250309T080000
END:DAYLIGHT
BEGIN:STANDARD
TZOFFSETFROM:-0500
TZOFFSETTO:-0600
TZNAME:CST
DTSTART:20251102T070000
END:STANDARD
BEGIN:DAYLIGHT
TZOFFSETFROM:-0600
TZOFFSETTO:-0500
TZNAME:CDT
DTSTART:20260308T080000
END:DAYLIGHT
BEGIN:STANDARD
TZOFFSETFROM:-0500
TZOFFSETTO:-0600
TZNAME:CST
DTSTART:20261101T070000
END:STANDARD
END:VTIMEZONE
BEGIN:VEVENT
DTSTART;VALUE=DATE:20250904
DTEND;VALUE=DATE:20250905
DTSTAMP:20260422T115416
CREATED:20250825T150326Z
LAST-MODIFIED:20250825T150326Z
UID:5078-1756944000-1757030399@nodawaypublichealth.org
SUMMARY:WIC
DESCRIPTION:
URL:https://nodawaypublichealth.org/event/wic-25/
CATEGORIES:WIC
END:VEVENT
BEGIN:VEVENT
DTSTART;VALUE=DATE:20250909
DTEND;VALUE=DATE:20250910
DTSTAMP:20260422T115416
CREATED:20250825T150348Z
LAST-MODIFIED:20250825T150348Z
UID:5080-1757376000-1757462399@nodawaypublichealth.org
SUMMARY:WIC
DESCRIPTION:
URL:https://nodawaypublichealth.org/event/wic-26/
CATEGORIES:WIC
END:VEVENT
BEGIN:VEVENT
DTSTART;VALUE=DATE:20250911
DTEND;VALUE=DATE:20250912
DTSTAMP:20260422T115416
CREATED:20250825T150517Z
LAST-MODIFIED:20250825T150517Z
UID:5088-1757548800-1757635199@nodawaypublichealth.org
SUMMARY:WIC
DESCRIPTION:
URL:https://nodawaypublichealth.org/event/wic-27/
CATEGORIES:WIC
END:VEVENT
BEGIN:VEVENT
DTSTART;VALUE=DATE:20250916
DTEND;VALUE=DATE:20250917
DTSTAMP:20260422T115416
CREATED:20250825T150634Z
LAST-MODIFIED:20250825T150634Z
UID:5092-1757980800-1758067199@nodawaypublichealth.org
SUMMARY:WIC
DESCRIPTION:
URL:https://nodawaypublichealth.org/event/wic-28/
CATEGORIES:WIC
END:VEVENT
BEGIN:VEVENT
DTSTART;VALUE=DATE:20250918
DTEND;VALUE=DATE:20250919
DTSTAMP:20260422T115416
CREATED:20250825T150901Z
LAST-MODIFIED:20250825T150901Z
UID:5102-1758153600-1758239999@nodawaypublichealth.org
SUMMARY:WIC
DESCRIPTION:
URL:https://nodawaypublichealth.org/event/wic-29/
CATEGORIES:WIC
END:VEVENT
BEGIN:VEVENT
DTSTART;VALUE=DATE:20250923
DTEND;VALUE=DATE:20250924
DTSTAMP:20260422T115416
CREATED:20250825T150919Z
LAST-MODIFIED:20250825T150919Z
UID:5104-1758585600-1758671999@nodawaypublichealth.org
SUMMARY:WIC
DESCRIPTION:
URL:https://nodawaypublichealth.org/event/wic-30/
CATEGORIES:WIC
END:VEVENT
BEGIN:VEVENT
DTSTART;VALUE=DATE:20250925
DTEND;VALUE=DATE:20250926
DTSTAMP:20260422T115416
CREATED:20250825T151119Z
LAST-MODIFIED:20250825T151119Z
UID:5114-1758758400-1758844799@nodawaypublichealth.org
SUMMARY:WIC
DESCRIPTION:
URL:https://nodawaypublichealth.org/event/wic-31/
CATEGORIES:WIC
END:VEVENT
BEGIN:VEVENT
DTSTART;VALUE=DATE:20250930
DTEND;VALUE=DATE:20251001
DTSTAMP:20260422T115416
CREATED:20250825T151229Z
LAST-MODIFIED:20250825T151229Z
UID:5120-1759190400-1759276799@nodawaypublichealth.org
SUMMARY:WIC
DESCRIPTION:
URL:https://nodawaypublichealth.org/event/wic-32/
CATEGORIES:WIC
END:VEVENT
END:VCALENDAR