BEGIN:VCALENDAR
VERSION:2.0
PRODID:-//Nodaway County Health Center - ECPv6.15.20//NONSGML v1.0//EN
CALSCALE:GREGORIAN
METHOD:PUBLISH
X-ORIGINAL-URL:https://nodawaypublichealth.org
X-WR-CALDESC:Events for Nodaway County Health Center
REFRESH-INTERVAL;VALUE=DURATION:PT1H
X-Robots-Tag:noindex
X-PUBLISHED-TTL:PT1H
BEGIN:VTIMEZONE
TZID:America/Chicago
BEGIN:DAYLIGHT
TZOFFSETFROM:-0600
TZOFFSETTO:-0500
TZNAME:CDT
DTSTART:20240310T080000
END:DAYLIGHT
BEGIN:STANDARD
TZOFFSETFROM:-0500
TZOFFSETTO:-0600
TZNAME:CST
DTSTART:20241103T070000
END:STANDARD
BEGIN:DAYLIGHT
TZOFFSETFROM:-0600
TZOFFSETTO:-0500
TZNAME:CDT
DTSTART:20250309T080000
END:DAYLIGHT
BEGIN:STANDARD
TZOFFSETFROM:-0500
TZOFFSETTO:-0600
TZNAME:CST
DTSTART:20251102T070000
END:STANDARD
BEGIN:DAYLIGHT
TZOFFSETFROM:-0600
TZOFFSETTO:-0500
TZNAME:CDT
DTSTART:20260308T080000
END:DAYLIGHT
BEGIN:STANDARD
TZOFFSETFROM:-0500
TZOFFSETTO:-0600
TZNAME:CST
DTSTART:20261101T070000
END:STANDARD
END:VTIMEZONE
BEGIN:VEVENT
DTSTART;VALUE=DATE:20250805
DTEND;VALUE=DATE:20250806
DTSTAMP:20260422T131805
CREATED:20250725T180253Z
LAST-MODIFIED:20250725T180253Z
UID:5025-1754352000-1754438399@nodawaypublichealth.org
SUMMARY:WIC
DESCRIPTION:
URL:https://nodawaypublichealth.org/event/wic-17/
CATEGORIES:WIC
END:VEVENT
BEGIN:VEVENT
DTSTART;VALUE=DATE:20250807
DTEND;VALUE=DATE:20250808
DTSTAMP:20260422T131805
CREATED:20250725T180337Z
LAST-MODIFIED:20250725T180337Z
UID:5029-1754524800-1754611199@nodawaypublichealth.org
SUMMARY:WIC
DESCRIPTION:
URL:https://nodawaypublichealth.org/event/wic-18/
CATEGORIES:WIC
END:VEVENT
BEGIN:VEVENT
DTSTART;VALUE=DATE:20250812
DTEND;VALUE=DATE:20250813
DTSTAMP:20260422T131805
CREATED:20250725T180533Z
LAST-MODIFIED:20250725T180533Z
UID:5037-1754956800-1755043199@nodawaypublichealth.org
SUMMARY:WIC
DESCRIPTION:
URL:https://nodawaypublichealth.org/event/wic-19/
CATEGORIES:WIC
END:VEVENT
BEGIN:VEVENT
DTSTART;VALUE=DATE:20250814
DTEND;VALUE=DATE:20250815
DTSTAMP:20260422T131805
CREATED:20250725T180635Z
LAST-MODIFIED:20250725T180635Z
UID:5043-1755129600-1755215999@nodawaypublichealth.org
SUMMARY:WIC
DESCRIPTION:
URL:https://nodawaypublichealth.org/event/wic-20/
CATEGORIES:WIC
END:VEVENT
BEGIN:VEVENT
DTSTART;VALUE=DATE:20250819
DTEND;VALUE=DATE:20250820
DTSTAMP:20260422T131805
CREATED:20250725T180740Z
LAST-MODIFIED:20250725T180740Z
UID:5049-1755561600-1755647999@nodawaypublichealth.org
SUMMARY:WIC
DESCRIPTION:
URL:https://nodawaypublichealth.org/event/wic-21/
CATEGORIES:WIC
END:VEVENT
BEGIN:VEVENT
DTSTART;VALUE=DATE:20250821
DTEND;VALUE=DATE:20250822
DTSTAMP:20260422T131805
CREATED:20250725T180828Z
LAST-MODIFIED:20250725T180828Z
UID:5055-1755734400-1755820799@nodawaypublichealth.org
SUMMARY:WIC
DESCRIPTION:
URL:https://nodawaypublichealth.org/event/wic-22/
CATEGORIES:WIC
END:VEVENT
BEGIN:VEVENT
DTSTART;VALUE=DATE:20250826
DTEND;VALUE=DATE:20250827
DTSTAMP:20260422T131805
CREATED:20250725T180903Z
LAST-MODIFIED:20250725T180903Z
UID:5059-1756166400-1756252799@nodawaypublichealth.org
SUMMARY:WIC
DESCRIPTION:
URL:https://nodawaypublichealth.org/event/wic-23/
CATEGORIES:WIC
END:VEVENT
BEGIN:VEVENT
DTSTART;VALUE=DATE:20250828
DTEND;VALUE=DATE:20250829
DTSTAMP:20260422T131805
CREATED:20250725T180956Z
LAST-MODIFIED:20250725T180956Z
UID:5065-1756339200-1756425599@nodawaypublichealth.org
SUMMARY:WIC
DESCRIPTION:
URL:https://nodawaypublichealth.org/event/wic-24/
CATEGORIES:WIC
END:VEVENT
END:VCALENDAR