BEGIN:VCALENDAR
VERSION:2.0
PRODID:-//Nodaway County Health Center - ECPv6.15.20//NONSGML v1.0//EN
CALSCALE:GREGORIAN
METHOD:PUBLISH
X-ORIGINAL-URL:https://nodawaypublichealth.org
X-WR-CALDESC:Events for Nodaway County Health Center
REFRESH-INTERVAL;VALUE=DURATION:PT1H
X-Robots-Tag:noindex
X-PUBLISHED-TTL:PT1H
BEGIN:VTIMEZONE
TZID:America/Chicago
BEGIN:DAYLIGHT
TZOFFSETFROM:-0600
TZOFFSETTO:-0500
TZNAME:CDT
DTSTART:20240310T080000
END:DAYLIGHT
BEGIN:STANDARD
TZOFFSETFROM:-0500
TZOFFSETTO:-0600
TZNAME:CST
DTSTART:20241103T070000
END:STANDARD
BEGIN:DAYLIGHT
TZOFFSETFROM:-0600
TZOFFSETTO:-0500
TZNAME:CDT
DTSTART:20250309T080000
END:DAYLIGHT
BEGIN:STANDARD
TZOFFSETFROM:-0500
TZOFFSETTO:-0600
TZNAME:CST
DTSTART:20251102T070000
END:STANDARD
BEGIN:DAYLIGHT
TZOFFSETFROM:-0600
TZOFFSETTO:-0500
TZNAME:CDT
DTSTART:20260308T080000
END:DAYLIGHT
BEGIN:STANDARD
TZOFFSETFROM:-0500
TZOFFSETTO:-0600
TZNAME:CST
DTSTART:20261101T070000
END:STANDARD
END:VTIMEZONE
BEGIN:VEVENT
DTSTART;VALUE=DATE:20250603
DTEND;VALUE=DATE:20250604
DTSTAMP:20260422T161427
CREATED:20250604T165358Z
LAST-MODIFIED:20250604T165413Z
UID:4876-1748908800-1748995199@nodawaypublichealth.org
SUMMARY:WIC
DESCRIPTION:
URL:https://nodawaypublichealth.org/event/wic/
CATEGORIES:WIC
END:VEVENT
BEGIN:VEVENT
DTSTART;VALUE=DATE:20250605
DTEND;VALUE=DATE:20250606
DTSTAMP:20260422T161427
CREATED:20250604T165445Z
LAST-MODIFIED:20250604T165445Z
UID:4878-1749081600-1749167999@nodawaypublichealth.org
SUMMARY:WIC
DESCRIPTION:
URL:https://nodawaypublichealth.org/event/wic-2/
CATEGORIES:WIC
END:VEVENT
BEGIN:VEVENT
DTSTART;VALUE=DATE:20250610
DTEND;VALUE=DATE:20250611
DTSTAMP:20260422T161427
CREATED:20250604T165649Z
LAST-MODIFIED:20250604T165649Z
UID:4882-1749513600-1749599999@nodawaypublichealth.org
SUMMARY:WIC
DESCRIPTION:
URL:https://nodawaypublichealth.org/event/wic-3/
CATEGORIES:WIC
END:VEVENT
BEGIN:VEVENT
DTSTART;VALUE=DATE:20250612
DTEND;VALUE=DATE:20250613
DTSTAMP:20260422T161427
CREATED:20250604T165902Z
LAST-MODIFIED:20250604T165902Z
UID:4889-1749686400-1749772799@nodawaypublichealth.org
SUMMARY:WIC
DESCRIPTION:
URL:https://nodawaypublichealth.org/event/wic-4/
CATEGORIES:WIC
END:VEVENT
BEGIN:VEVENT
DTSTART;VALUE=DATE:20250616
DTEND;VALUE=DATE:20250617
DTSTAMP:20260422T161427
CREATED:20250604T165918Z
LAST-MODIFIED:20250604T165918Z
UID:4891-1750032000-1750118399@nodawaypublichealth.org
SUMMARY:WIC
DESCRIPTION:
URL:https://nodawaypublichealth.org/event/wic-5/
CATEGORIES:WIC
END:VEVENT
BEGIN:VEVENT
DTSTART;VALUE=DATE:20250617
DTEND;VALUE=DATE:20250618
DTSTAMP:20260422T161427
CREATED:20250604T165933Z
LAST-MODIFIED:20250604T165933Z
UID:4893-1750118400-1750204799@nodawaypublichealth.org
SUMMARY:WIC
DESCRIPTION:
URL:https://nodawaypublichealth.org/event/wic-6/
CATEGORIES:WIC
END:VEVENT
BEGIN:VEVENT
DTSTART;VALUE=DATE:20250624
DTEND;VALUE=DATE:20250625
DTSTAMP:20260422T161427
CREATED:20250604T170202Z
LAST-MODIFIED:20250604T170202Z
UID:4901-1750723200-1750809599@nodawaypublichealth.org
SUMMARY:WIC
DESCRIPTION:
URL:https://nodawaypublichealth.org/event/wic-7/
CATEGORIES:WIC
END:VEVENT
BEGIN:VEVENT
DTSTART;VALUE=DATE:20250626
DTEND;VALUE=DATE:20250627
DTSTAMP:20260422T161427
CREATED:20250604T170335Z
LAST-MODIFIED:20250604T170335Z
UID:4909-1750896000-1750982399@nodawaypublichealth.org
SUMMARY:WIC
DESCRIPTION:
URL:https://nodawaypublichealth.org/event/wic-8/
CATEGORIES:WIC
END:VEVENT
END:VCALENDAR