BEGIN:VCALENDAR
VERSION:2.0
PRODID:-//Nodaway County Health Center - ECPv6.15.20//NONSGML v1.0//EN
CALSCALE:GREGORIAN
METHOD:PUBLISH
X-WR-CALNAME:Nodaway County Health Center
X-ORIGINAL-URL:https://nodawaypublichealth.org
X-WR-CALDESC:Events for Nodaway County Health Center
REFRESH-INTERVAL;VALUE=DURATION:PT1H
X-Robots-Tag:noindex
X-PUBLISHED-TTL:PT1H
BEGIN:VTIMEZONE
TZID:America/Chicago
BEGIN:DAYLIGHT
TZOFFSETFROM:-0600
TZOFFSETTO:-0500
TZNAME:CDT
DTSTART:20250309T080000
END:DAYLIGHT
BEGIN:STANDARD
TZOFFSETFROM:-0500
TZOFFSETTO:-0600
TZNAME:CST
DTSTART:20251102T070000
END:STANDARD
BEGIN:DAYLIGHT
TZOFFSETFROM:-0600
TZOFFSETTO:-0500
TZNAME:CDT
DTSTART:20260308T080000
END:DAYLIGHT
BEGIN:STANDARD
TZOFFSETFROM:-0500
TZOFFSETTO:-0600
TZNAME:CST
DTSTART:20261101T070000
END:STANDARD
BEGIN:DAYLIGHT
TZOFFSETFROM:-0600
TZOFFSETTO:-0500
TZNAME:CDT
DTSTART:20270314T080000
END:DAYLIGHT
BEGIN:STANDARD
TZOFFSETFROM:-0500
TZOFFSETTO:-0600
TZNAME:CST
DTSTART:20271107T070000
END:STANDARD
END:VTIMEZONE
BEGIN:VEVENT
DTSTART;VALUE=DATE:20260225
DTEND;VALUE=DATE:20260226
DTSTAMP:20260421T033921
CREATED:20260126T165739Z
LAST-MODIFIED:20260126T165739Z
UID:5396-1771977600-1772063999@nodawaypublichealth.org
SUMMARY:Immunization Appointment Clinic
DESCRIPTION:
URL:https://nodawaypublichealth.org/event/immunization-appointment-clinic-29/
CATEGORIES:Immunizations
END:VEVENT
BEGIN:VEVENT
DTSTART;TZID=America/Chicago:20260225T100000
DTEND;TZID=America/Chicago:20260225T113000
DTSTAMP:20260421T033921
CREATED:20260126T165806Z
LAST-MODIFIED:20260126T165806Z
UID:5398-1772013600-1772019000@nodawaypublichealth.org
SUMMARY:QPR Class @ NW Tech School
DESCRIPTION:
URL:https://nodawaypublichealth.org/event/qpr-class-nw-tech-school/
END:VEVENT
END:VCALENDAR